BEGIN:VCALENDAR
VERSION:2.0
PRODID:-//Middlesex Golf - ECPv6.15.16//NONSGML v1.0//EN
CALSCALE:GREGORIAN
METHOD:PUBLISH
X-ORIGINAL-URL:https://middlesexgolf.co.uk
X-WR-CALDESC:Events for Middlesex Golf
REFRESH-INTERVAL;VALUE=DURATION:PT1H
X-Robots-Tag:noindex
X-PUBLISHED-TTL:PT1H
BEGIN:VTIMEZONE
TZID:Europe/London
BEGIN:DAYLIGHT
TZOFFSETFROM:+0000
TZOFFSETTO:+0100
TZNAME:BST
DTSTART:20250330T010000
END:DAYLIGHT
BEGIN:STANDARD
TZOFFSETFROM:+0100
TZOFFSETTO:+0000
TZNAME:GMT
DTSTART:20251026T010000
END:STANDARD
BEGIN:DAYLIGHT
TZOFFSETFROM:+0000
TZOFFSETTO:+0100
TZNAME:BST
DTSTART:20260329T010000
END:DAYLIGHT
BEGIN:STANDARD
TZOFFSETFROM:+0100
TZOFFSETTO:+0000
TZNAME:GMT
DTSTART:20261025T010000
END:STANDARD
BEGIN:DAYLIGHT
TZOFFSETFROM:+0000
TZOFFSETTO:+0100
TZNAME:BST
DTSTART:20270328T010000
END:DAYLIGHT
BEGIN:STANDARD
TZOFFSETFROM:+0100
TZOFFSETTO:+0000
TZNAME:GMT
DTSTART:20271031T010000
END:STANDARD
END:VTIMEZONE
BEGIN:VEVENT
DTSTART;VALUE=DATE:20260413
DTEND;VALUE=DATE:20260414
DTSTAMP:20260422T111110
CREATED:20251210T131629Z
LAST-MODIFIED:20260226T173050Z
UID:28636-1776038400-1776124799@middlesexgolf.co.uk
SUMMARY:Middlesex Women's Singles Knockout
DESCRIPTION:Click HERE to register
URL:https://middlesexgolf.co.uk/event/middlesex-womens-singles-knockout/
LOCATION:Surrey
CATEGORIES:County Competition,Womens
END:VEVENT
BEGIN:VEVENT
DTSTART;VALUE=DATE:20260413
DTEND;VALUE=DATE:20260414
DTSTAMP:20260422T111110
CREATED:20251210T132107Z
LAST-MODIFIED:20260212T103319Z
UID:28638-1776038400-1776124799@middlesexgolf.co.uk
SUMMARY:Middlesex Women's Foursomes Knockout
DESCRIPTION:Registration Opens on 1st Jan 2026 \nClick HERE to register
URL:https://middlesexgolf.co.uk/event/middlesex-womens-foursomes-knockout/
LOCATION:Surrey
CATEGORIES:County Competition,Womens
END:VEVENT
BEGIN:VEVENT
DTSTART;TZID=Europe/London:20260612T080000
DTEND;TZID=Europe/London:20260614T170000
DTSTAMP:20260422T111110
CREATED:20251223T131823Z
LAST-MODIFIED:20260302T111050Z
UID:28776-1781251200-1781456400@middlesexgolf.co.uk
SUMMARY:Middlesex Men's County Championships
DESCRIPTION:Click HERE to register
URL:https://middlesexgolf.co.uk/event/middlesex-mens-county-championships-2/
LOCATION:Wyke Green Golf Club\, Syon Ln\, Isleworth TW7 5PT\, UK
CATEGORIES:County Competition,Juniors,Mens
END:VEVENT
BEGIN:VEVENT
DTSTART;TZID=Europe/London:20260613T080000
DTEND;TZID=Europe/London:20260614T170000
DTSTAMP:20260422T111110
CREATED:20251223T132622Z
LAST-MODIFIED:20260302T111149Z
UID:28778-1781337600-1781456400@middlesexgolf.co.uk
SUMMARY:Middlesex Women's County Championships
DESCRIPTION:Click HERE to register
URL:https://middlesexgolf.co.uk/event/middlesex-womens-county-championships-2/
LOCATION:Wyke Green Golf Club\, Syon Ln\, Isleworth TW7 5PT\, UK
CATEGORIES:County Competition,Womens
END:VEVENT
END:VCALENDAR