BEGIN:VCALENDAR
VERSION:2.0
PRODID:-//Middlesex Golf - ECPv6.15.16//NONSGML v1.0//EN
CALSCALE:GREGORIAN
METHOD:PUBLISH
X-ORIGINAL-URL:https://middlesexgolf.co.uk
X-WR-CALDESC:Events for Middlesex Golf
REFRESH-INTERVAL;VALUE=DURATION:PT1H
X-Robots-Tag:noindex
X-PUBLISHED-TTL:PT1H
BEGIN:VTIMEZONE
TZID:Europe/London
BEGIN:DAYLIGHT
TZOFFSETFROM:+0000
TZOFFSETTO:+0100
TZNAME:BST
DTSTART:20240331T010000
END:DAYLIGHT
BEGIN:STANDARD
TZOFFSETFROM:+0100
TZOFFSETTO:+0000
TZNAME:GMT
DTSTART:20241027T010000
END:STANDARD
BEGIN:DAYLIGHT
TZOFFSETFROM:+0000
TZOFFSETTO:+0100
TZNAME:BST
DTSTART:20250330T010000
END:DAYLIGHT
BEGIN:STANDARD
TZOFFSETFROM:+0100
TZOFFSETTO:+0000
TZNAME:GMT
DTSTART:20251026T010000
END:STANDARD
BEGIN:DAYLIGHT
TZOFFSETFROM:+0000
TZOFFSETTO:+0100
TZNAME:BST
DTSTART:20260329T010000
END:DAYLIGHT
BEGIN:STANDARD
TZOFFSETFROM:+0100
TZOFFSETTO:+0000
TZNAME:GMT
DTSTART:20261025T010000
END:STANDARD
END:VTIMEZONE
BEGIN:VEVENT
DTSTART;VALUE=DATE:20250803
DTEND;VALUE=DATE:20250804
DTSTAMP:20260424T173025
CREATED:20241024T174745Z
LAST-MODIFIED:20241024T174848Z
UID:21891-1754179200-1754265599@middlesexgolf.co.uk
SUMMARY:U16 Boys Match vs BBO vs Beds (home-venue tbc)
DESCRIPTION:
URL:https://middlesexgolf.co.uk/event/u16-boys-match-vs-bbo-vs-beds-home-venue-tbc/
LOCATION:Lincolnshire
CATEGORIES:County Match,Juniors
END:VEVENT
BEGIN:VEVENT
DTSTART;TZID=Europe/London:20250810T080000
DTEND;TZID=Europe/London:20250810T170000
DTSTAMP:20260424T173025
CREATED:20241024T174641Z
LAST-MODIFIED:20241024T174641Z
UID:21889-1754812800-1754845200@middlesexgolf.co.uk
SUMMARY:U16 Boys Match vs Beds vs Essex (away Beds)
DESCRIPTION:VENUE TBC
URL:https://middlesexgolf.co.uk/event/u16-boys-match-vs-beds-vs-essex-away-beds/
LOCATION:Lincolnshire
CATEGORIES:County Match,Juniors
END:VEVENT
BEGIN:VEVENT
DTSTART;VALUE=DATE:20250817
DTEND;VALUE=DATE:20250821
DTSTAMP:20260424T173025
CREATED:20241026T102226Z
LAST-MODIFIED:20241026T102226Z
UID:21935-1755388800-1755734399@middlesexgolf.co.uk
SUMMARY:Girl's County Week
DESCRIPTION:
URL:https://middlesexgolf.co.uk/event/girls-county-week/
LOCATION:Worthing Golf Club\, Links Road\, West Sussex\, BN14 9QZ\, United Kingdom
CATEGORIES:County Match,Juniors,Womens
END:VEVENT
BEGIN:VEVENT
DTSTART;VALUE=DATE:20250826
DTEND;VALUE=DATE:20250827
DTSTAMP:20260424T173025
CREATED:20241024T183910Z
LAST-MODIFIED:20241120T101902Z
UID:21905-1756166400-1756252799@middlesexgolf.co.uk
SUMMARY:Mens Senior Team Match vs Essex at Romford Golf Club
DESCRIPTION:
URL:https://middlesexgolf.co.uk/event/mens-senior-team-match-vs-essex-away-venue-tbc/
LOCATION:Romford Golf Club\, Heath Drive\, Romford\, Greater London\, RM2 5QB\, United Kingdom
CATEGORIES:County Match,Seniors
END:VEVENT
BEGIN:VEVENT
DTSTART;VALUE=DATE:20250831
DTEND;VALUE=DATE:20250901
DTSTAMP:20260424T173025
CREATED:20241024T184359Z
LAST-MODIFIED:20241024T184359Z
UID:21911-1756598400-1756684799@middlesexgolf.co.uk
SUMMARY:Mens Challenge Team Match vs Essex (home-venue tbc)
DESCRIPTION:
URL:https://middlesexgolf.co.uk/event/mens-challenge-team-match-vs-essex-home-venue-tbc/
LOCATION:Lincolnshire
CATEGORIES:County Match,Mens
END:VEVENT
END:VCALENDAR