BEGIN:VCALENDAR
VERSION:2.0
PRODID:-//Middlesex Golf - ECPv6.15.16//NONSGML v1.0//EN
CALSCALE:GREGORIAN
METHOD:PUBLISH
X-WR-CALNAME:Middlesex Golf
X-ORIGINAL-URL:https://middlesexgolf.co.uk
X-WR-CALDESC:Events for Middlesex Golf
REFRESH-INTERVAL;VALUE=DURATION:PT1H
X-Robots-Tag:noindex
X-PUBLISHED-TTL:PT1H
BEGIN:VTIMEZONE
TZID:Europe/London
BEGIN:DAYLIGHT
TZOFFSETFROM:+0000
TZOFFSETTO:+0100
TZNAME:BST
DTSTART:20230326T010000
END:DAYLIGHT
BEGIN:STANDARD
TZOFFSETFROM:+0100
TZOFFSETTO:+0000
TZNAME:GMT
DTSTART:20231029T010000
END:STANDARD
BEGIN:DAYLIGHT
TZOFFSETFROM:+0000
TZOFFSETTO:+0100
TZNAME:BST
DTSTART:20240331T010000
END:DAYLIGHT
BEGIN:STANDARD
TZOFFSETFROM:+0100
TZOFFSETTO:+0000
TZNAME:GMT
DTSTART:20241027T010000
END:STANDARD
BEGIN:DAYLIGHT
TZOFFSETFROM:+0000
TZOFFSETTO:+0100
TZNAME:BST
DTSTART:20250330T010000
END:DAYLIGHT
BEGIN:STANDARD
TZOFFSETFROM:+0100
TZOFFSETTO:+0000
TZNAME:GMT
DTSTART:20251026T010000
END:STANDARD
END:VTIMEZONE
BEGIN:VEVENT
DTSTART;VALUE=DATE:20240812
DTEND;VALUE=DATE:20240815
DTSTAMP:20260419T141320
CREATED:20240809T104306Z
LAST-MODIFIED:20240809T105224Z
UID:20649-1723420800-1723679999@middlesexgolf.co.uk
SUMMARY:Junior Girls County Week
DESCRIPTION:Matches to played versus Surrey\, Hampshire\, Sussex and Kent
URL:https://middlesexgolf.co.uk/event/junior-girls-county-week/
LOCATION:Crews Hill Golf Club\, Crews Hill Golf Club\, Cattlegate Rd\, Enfield EN2 8AZ\, UK
CATEGORIES:County Competition,Juniors,Womens
END:VEVENT
END:VCALENDAR