BEGIN:VCALENDAR
VERSION:2.0
PRODID:-//Middlesex Golf - ECPv6.15.16//NONSGML v1.0//EN
CALSCALE:GREGORIAN
METHOD:PUBLISH
X-ORIGINAL-URL:https://middlesexgolf.co.uk
X-WR-CALDESC:Events for Middlesex Golf
REFRESH-INTERVAL;VALUE=DURATION:PT1H
X-Robots-Tag:noindex
X-PUBLISHED-TTL:PT1H
BEGIN:VTIMEZONE
TZID:Europe/London
BEGIN:DAYLIGHT
TZOFFSETFROM:+0000
TZOFFSETTO:+0100
TZNAME:BST
DTSTART:20240331T010000
END:DAYLIGHT
BEGIN:STANDARD
TZOFFSETFROM:+0100
TZOFFSETTO:+0000
TZNAME:GMT
DTSTART:20241027T010000
END:STANDARD
BEGIN:DAYLIGHT
TZOFFSETFROM:+0000
TZOFFSETTO:+0100
TZNAME:BST
DTSTART:20250330T010000
END:DAYLIGHT
BEGIN:STANDARD
TZOFFSETFROM:+0100
TZOFFSETTO:+0000
TZNAME:GMT
DTSTART:20251026T010000
END:STANDARD
BEGIN:DAYLIGHT
TZOFFSETFROM:+0000
TZOFFSETTO:+0100
TZNAME:BST
DTSTART:20260329T010000
END:DAYLIGHT
BEGIN:STANDARD
TZOFFSETFROM:+0100
TZOFFSETTO:+0000
TZNAME:GMT
DTSTART:20261025T010000
END:STANDARD
BEGIN:DAYLIGHT
TZOFFSETFROM:+0000
TZOFFSETTO:+0100
TZNAME:BST
DTSTART:20270328T010000
END:DAYLIGHT
BEGIN:STANDARD
TZOFFSETFROM:+0100
TZOFFSETTO:+0000
TZNAME:GMT
DTSTART:20271031T010000
END:STANDARD
END:VTIMEZONE
BEGIN:VEVENT
DTSTART;VALUE=DATE:20260413
DTEND;VALUE=DATE:20260414
DTSTAMP:20260424T014638
CREATED:20251210T132702Z
LAST-MODIFIED:20260226T180703Z
UID:28643-1776038400-1776124799@middlesexgolf.co.uk
SUMMARY:Middlesex 4BBB Handicap Knockout
DESCRIPTION:CLICK HERE to register
URL:https://middlesexgolf.co.uk/event/middlesex-4bbb-handicap-knockout/
CATEGORIES:County Competition,Mixed
END:VEVENT
BEGIN:VEVENT
DTSTART;VALUE=DATE:20260407
DTEND;VALUE=DATE:20260408
DTSTAMP:20260424T014638
CREATED:20260114T161437Z
LAST-MODIFIED:20260226T174306Z
UID:28938-1775520000-1775606399@middlesexgolf.co.uk
SUMMARY:ESGA Middlesex Schools Championships
DESCRIPTION:Click HERE to register \nOpen to any pupil attending a Middlesex School. \nThe winners go on to play in highly regarded regional and national finals. \nQualifications\nEntrants can be male and female\, must be under the age of 18 at 00:00 hours on 1st January\npreceding the Championship.\nOn the date the registration closes for the Championship\, they must hold a handicap of 40.4\nor lower. Players with handicaps greater than the limit will not be entered.\nEntrants must be currently enrolled in education within the County of Middlesex.\nEntrants are not required to be a member of a club affiliated to MIDDLESEX GOLF.
URL:https://middlesexgolf.co.uk/event/esga-middlesex-schools-championships/
LOCATION:Fulwell Golf Club\, Fulwell Golf Course\, Twickenham TW2 5PA\, UK
CATEGORIES:County Competition,Juniors
END:VEVENT
BEGIN:VEVENT
DTSTART;VALUE=DATE:20260106
DTEND;VALUE=DATE:20260107
DTSTAMP:20260424T014638
CREATED:20260106T103529Z
LAST-MODIFIED:20260106T103529Z
UID:28819-1767657600-1767743999@middlesexgolf.co.uk
SUMMARY:Enfield 4BBB Pairs Open
DESCRIPTION:Click HERE to register. £100
URL:https://middlesexgolf.co.uk/event/enfield-4bbb-pairs-open/
LOCATION:Enfield Golf Club\, Old Park Rd S\, Enfield EN2 7DA\, UK
CATEGORIES:Club Competition,Mixed
END:VEVENT
BEGIN:VEVENT
DTSTART;TZID=Europe/London:20260101T080000
DTEND;TZID=Europe/London:20260101T170000
DTSTAMP:20260424T014638
CREATED:20251210T132934Z
LAST-MODIFIED:20251214T122244Z
UID:28645-1767254400-1767286800@middlesexgolf.co.uk
SUMMARY:Middlesex Senior Singles Mid-Handicap Knockout
DESCRIPTION:Registration Opens on 01/01/2026 \nClick HERE to register
URL:https://middlesexgolf.co.uk/event/middlesex-senior-singles-mid-handicap-knockout/
CATEGORIES:County Competition,Mixed
END:VEVENT
BEGIN:VEVENT
DTSTART;TZID=Europe/London:20260101T080000
DTEND;TZID=Europe/London:20260101T170000
DTSTAMP:20260424T014638
CREATED:20251210T132343Z
LAST-MODIFIED:20251214T122357Z
UID:28641-1767254400-1767286800@middlesexgolf.co.uk
SUMMARY:Middlesex Centenary Scratch Foursomes Knockout
DESCRIPTION:Registration Opens on 01/01/2026 \nClick HERE to register
URL:https://middlesexgolf.co.uk/event/middlesex-centenary-scratch-foursomes-knockout/
CATEGORIES:County Competition,Mixed
END:VEVENT
BEGIN:VEVENT
DTSTART;VALUE=DATE:20251030
DTEND;VALUE=DATE:20251031
DTSTAMP:20260424T014638
CREATED:20250808T115655Z
LAST-MODIFIED:20260218T164230Z
UID:25937-1761782400-1761868799@middlesexgolf.co.uk
SUMMARY:Middlesex U16 Championships
DESCRIPTION:
URL:https://middlesexgolf.co.uk/event/middlesex-u16-championships-2/
LOCATION:North Middlesex Golf Club\, Manor House\, Friern Barnet Ln\, London N20 0NL\, UK
CATEGORIES:County Competition,Juniors
END:VEVENT
BEGIN:VEVENT
DTSTART;VALUE=DATE:20251027
DTEND;VALUE=DATE:20251028
DTSTAMP:20260424T014638
CREATED:20241119T195506Z
LAST-MODIFIED:20250402T110538Z
UID:22233-1761523200-1761609599@middlesexgolf.co.uk
SUMMARY:Finchley Junior Open
DESCRIPTION:Registration Opens in January 2025
URL:https://middlesexgolf.co.uk/event/finchley-junior-open/
LOCATION:Finchley Golf Club\, Nether Court\, Frith Ln\, London NW7 1PU\, UK
CATEGORIES:Club Competition,Juniors
END:VEVENT
BEGIN:VEVENT
DTSTART;VALUE=DATE:20251006
DTEND;VALUE=DATE:20251007
DTSTAMP:20260424T014638
CREATED:20241007T122400Z
LAST-MODIFIED:20250808T170406Z
UID:21522-1759708800-1759795199@middlesexgolf.co.uk
SUMMARY:Lorna Peters Trophy
DESCRIPTION:Click here to sign up
URL:https://middlesexgolf.co.uk/event/lorna-peters-trophy-2/
LOCATION:Highgate Golf Club\, Denewood Rd\, London N6 4AH\, UK
CATEGORIES:Club Competition,Womens,Womens Seniors
END:VEVENT
BEGIN:VEVENT
DTSTART;VALUE=DATE:20250929
DTEND;VALUE=DATE:20250930
DTSTAMP:20260424T014638
CREATED:20241112T224445Z
LAST-MODIFIED:20241112T230103Z
UID:22159-1759104000-1759190399@middlesexgolf.co.uk
SUMMARY:Fulwell Senior Pairs Open
DESCRIPTION:Click on the image below to register \nRegistration opens on 01/12/24
URL:https://middlesexgolf.co.uk/event/fulwell-senior-pairs-open/
LOCATION:Fulwell Golf Club\, Fulwell Golf Course\, Twickenham TW2 5PA\, UK
CATEGORIES:Club Competition,Mens,Mixed,Seniors,Womens,Womens Seniors
END:VEVENT
BEGIN:VEVENT
DTSTART;VALUE=DATE:20250926
DTEND;VALUE=DATE:20250929
DTSTAMP:20260424T014638
CREATED:20241024T190200Z
LAST-MODIFIED:20250717T180107Z
UID:21928-1758844800-1759103999@middlesexgolf.co.uk
SUMMARY:41st Ryder Cup
DESCRIPTION:Click HERE for details \nBethpage (Black) New York
URL:https://middlesexgolf.co.uk/event/41st-ryder-cup/
CATEGORIES:National Competition
END:VEVENT
BEGIN:VEVENT
DTSTART;VALUE=DATE:20250921
DTEND;VALUE=DATE:20250922
DTSTAMP:20260424T014638
CREATED:20241026T102422Z
LAST-MODIFIED:20241026T102437Z
UID:21938-1758412800-1758499199@middlesexgolf.co.uk
SUMMARY:Arlesford Trophy U18 Girls
DESCRIPTION:
URL:https://middlesexgolf.co.uk/event/arlesford-trophy-u18-girls/
END:VEVENT
BEGIN:VEVENT
DTSTART;VALUE=DATE:20250920
DTEND;VALUE=DATE:20250922
DTSTAMP:20260424T014638
CREATED:20250723T113115Z
LAST-MODIFIED:20250723T113115Z
UID:25558-1758326400-1758499199@middlesexgolf.co.uk
SUMMARY:CW Roe Challenge Trophy
DESCRIPTION:Click HERE to Sign Up
URL:https://middlesexgolf.co.uk/event/cw-roe-challenge-trophy/
LOCATION:West Middlesex Golf Club\, Greenford Rd\, London\, Southall UB1 3EE\, UK
CATEGORIES:Club Competition,Mens,Order of Merit,Womens
END:VEVENT
BEGIN:VEVENT
DTSTART;VALUE=DATE:20250919
DTEND;VALUE=DATE:20250920
DTSTAMP:20260424T014638
CREATED:20241007T080345Z
LAST-MODIFIED:20260218T164333Z
UID:21505-1758240000-1758326399@middlesexgolf.co.uk
SUMMARY:Middlesex Handicap Championships
DESCRIPTION:Hosted by Enfield Golf Club \nMIDDLESEX GOLF Handicap Championship\nQualifications\nEntrants can be male or female and must be aged 18 and over and must hold a handicap of 9.5 or higher on the date that his entry for the Championship is submitted. Players with handicaps lower than the limit may not enter.\nMaximum Entry\nThere will be a maximum of 72 players. If more than 72 players enter the competitors will be based on a first come first serve basis.\nFormat\nThe Championship will be played over 18 holes of stableford\, played off handicap allowance.\nOrder of Play\nAs far as is practical\, competitors will be drawn to play in descending order of handicap in groups of three with no playing group comprising two competitors from the same club.\nPrizes and Vouchers\ni) The winner will be the competitor with the highest stableford score for the 18 holes.\nii) The winner will receive the trophy and they will also receive a memento to retain and a voucher.\niii) The runner-up will receive a voucher.
URL:https://middlesexgolf.co.uk/event/middlesex-handicap-championships/
LOCATION:Enfield Golf Club\, Old Park Rd S\, Enfield EN2 7DA\, UK
CATEGORIES:County Competition,Mens,Womens,Womens Seniors
END:VEVENT
BEGIN:VEVENT
DTSTART;VALUE=DATE:20250914
DTEND;VALUE=DATE:20250915
DTSTAMP:20260424T014638
CREATED:20241119T094551Z
LAST-MODIFIED:20241119T094551Z
UID:22222-1757808000-1757894399@middlesexgolf.co.uk
SUMMARY:Middlesex Women's Scratch 5-a-Side Finals
DESCRIPTION:
URL:https://middlesexgolf.co.uk/event/middlesex-womens-scratch-5-a-side-finals/
LOCATION:Enfield Golf Club\, Old Park Rd S\, Enfield EN2 7DA\, UK
CATEGORIES:County Competition,Womens
END:VEVENT
BEGIN:VEVENT
DTSTART;VALUE=DATE:20250914
DTEND;VALUE=DATE:20250915
DTSTAMP:20260424T014638
CREATED:20241112T225647Z
LAST-MODIFIED:20241112T225647Z
UID:22167-1757808000-1757894399@middlesexgolf.co.uk
SUMMARY:Fulwell Junior 9 Hole Open
DESCRIPTION:Click on the image below to register \nRegistration opens on 01/12/2024
URL:https://middlesexgolf.co.uk/event/fulwell-junior-9-hole-open/
LOCATION:Fulwell Golf Club\, Fulwell Golf Course\, Twickenham TW2 5PA\, UK
CATEGORIES:Club Competition,Juniors
END:VEVENT
BEGIN:VEVENT
DTSTART;VALUE=DATE:20250905
DTEND;VALUE=DATE:20250906
DTSTAMP:20260424T014638
CREATED:20241113T204234Z
LAST-MODIFIED:20260218T164452Z
UID:22180-1757030400-1757116799@middlesexgolf.co.uk
SUMMARY:Middlesex Womens Autumn Meeting
DESCRIPTION:5th September at Grims Dyke GC
URL:https://middlesexgolf.co.uk/event/middlesex-womens-autumn-meeting/
LOCATION:Grims Dyke Golf Club\, Grim's Dyke Golf Club\, Oxhey Ln\, Watford\, Pinner HA5 4AL\, UK
CATEGORIES:County Competition,Meeting,Womens,Womens Seniors
END:VEVENT
BEGIN:VEVENT
DTSTART;VALUE=DATE:20250903
DTEND;VALUE=DATE:20250904
DTSTAMP:20260424T014638
CREATED:20250501T104814Z
LAST-MODIFIED:20250501T104814Z
UID:23753-1756857600-1756943999@middlesexgolf.co.uk
SUMMARY:Ealing Seniors Open
DESCRIPTION:Click HERE to register
URL:https://middlesexgolf.co.uk/event/ealing-seniors-open/
LOCATION:Ealing Golf Club\, Perivale Ln\, Perivale\, Greenford\, Perivale\, Greenford UB6\, UK
CATEGORIES:Club Competition,Seniors
END:VEVENT
BEGIN:VEVENT
DTSTART;VALUE=DATE:20250901
DTEND;VALUE=DATE:20250902
DTSTAMP:20260424T014638
CREATED:20250616T180315Z
LAST-MODIFIED:20250616T180315Z
UID:24459-1756684800-1756771199@middlesexgolf.co.uk
SUMMARY:Ealing Golf Club Women's Golf & Coffee Morning
DESCRIPTION:Monday 1st September. Team event. Best 2 score from 4. Full H’Cap allowance \nClick HERE for full details
URL:https://middlesexgolf.co.uk/event/ealing-golf-club-womens-golf-coffee-morning/
LOCATION:Ealing Golf Club\, Perivale Ln\, Perivale\, Greenford\, Perivale\, Greenford UB6\, UK
CATEGORIES:Club Competition,Womens
END:VEVENT
BEGIN:VEVENT
DTSTART;VALUE=DATE:20250831
DTEND;VALUE=DATE:20250901
DTSTAMP:20260424T014638
CREATED:20241024T184359Z
LAST-MODIFIED:20241024T184359Z
UID:21911-1756598400-1756684799@middlesexgolf.co.uk
SUMMARY:Mens Challenge Team Match vs Essex (home-venue tbc)
DESCRIPTION:
URL:https://middlesexgolf.co.uk/event/mens-challenge-team-match-vs-essex-home-venue-tbc/
CATEGORIES:County Match,Mens
END:VEVENT
BEGIN:VEVENT
DTSTART;VALUE=DATE:20250830
DTEND;VALUE=DATE:20250831
DTSTAMP:20260424T014638
CREATED:20241105T144547Z
LAST-MODIFIED:20241105T144547Z
UID:22103-1756512000-1756598399@middlesexgolf.co.uk
SUMMARY:Muswell Hill Mixed Open
DESCRIPTION:Muswell Hill Mixed Open Entry Form 2025
URL:https://middlesexgolf.co.uk/event/muswell-hill-mixed-open/
CATEGORIES:Club Competition,Mixed
END:VEVENT
BEGIN:VEVENT
DTSTART;VALUE=DATE:20250829
DTEND;VALUE=DATE:20250830
DTSTAMP:20260424T014638
CREATED:20241105T144440Z
LAST-MODIFIED:20241105T144440Z
UID:22100-1756425600-1756511999@middlesexgolf.co.uk
SUMMARY:Muswell Hill Scratch Open
DESCRIPTION:Muswell Hill Scratch Open Entry Form 2025
URL:https://middlesexgolf.co.uk/event/muswell-hill-scratch-open/
CATEGORIES:Club Competition,Juniors,Mens,Seniors,Womens
END:VEVENT
BEGIN:VEVENT
DTSTART;VALUE=DATE:20250828
DTEND;VALUE=DATE:20250829
DTSTAMP:20260424T014638
CREATED:20250120T094100Z
LAST-MODIFIED:20250120T094100Z
UID:22872-1756339200-1756425599@middlesexgolf.co.uk
SUMMARY:Pinner Hill Junior Mixed Open
DESCRIPTION:Click HERE to sign up
URL:https://middlesexgolf.co.uk/event/pinner-hill-junior-mixed-open/
LOCATION:Pinner Hill Golf Club\, Southview Road\, Pinner Hill\, Pinner HA5 3YA\, UK
CATEGORIES:Club Competition,Juniors
END:VEVENT
BEGIN:VEVENT
DTSTART;VALUE=DATE:20250826
DTEND;VALUE=DATE:20250827
DTSTAMP:20260424T014638
CREATED:20241024T183910Z
LAST-MODIFIED:20241120T101902Z
UID:21905-1756166400-1756252799@middlesexgolf.co.uk
SUMMARY:Mens Senior Team Match vs Essex at Romford Golf Club
DESCRIPTION:
URL:https://middlesexgolf.co.uk/event/mens-senior-team-match-vs-essex-away-venue-tbc/
LOCATION:Romford Golf Club\, Heath Drive\, Romford\, Greater London\, RM2 5QB\, United Kingdom
CATEGORIES:County Match,Seniors
END:VEVENT
BEGIN:VEVENT
DTSTART;VALUE=DATE:20250824
DTEND;VALUE=DATE:20250825
DTSTAMP:20260424T014638
CREATED:20241105T143514Z
LAST-MODIFIED:20250723T104834Z
UID:22097-1755993600-1756079999@middlesexgolf.co.uk
SUMMARY:Muswell Hill GC Junior Open
DESCRIPTION:Muswell Hill Junior Open Entry Form 2025
URL:https://middlesexgolf.co.uk/event/muswell-hill-gc-junior-open/
CATEGORIES:Club Competition,Juniors
END:VEVENT
BEGIN:VEVENT
DTSTART;TZID=Europe/London:20250823T080000
DTEND;TZID=Europe/London:20250824T170000
DTSTAMP:20260424T014638
CREATED:20250501T105313Z
LAST-MODIFIED:20250501T105313Z
UID:23757-1755936000-1756054800@middlesexgolf.co.uk
SUMMARY:Ealing Scratch Open
DESCRIPTION:Click HERE to sign up
URL:https://middlesexgolf.co.uk/event/ealing-scratch-open/
LOCATION:Ealing Golf Club\, Perivale Ln\, Perivale\, Greenford\, Perivale\, Greenford UB6\, UK
CATEGORIES:Club Competition
END:VEVENT
BEGIN:VEVENT
DTSTART;VALUE=DATE:20250822
DTEND;VALUE=DATE:20250824
DTSTAMP:20260424T014638
CREATED:20241007T105502Z
LAST-MODIFIED:20260218T164527Z
UID:21516-1755820800-1755993599@middlesexgolf.co.uk
SUMMARY:Middlesex Women's Senior Championships (click here)
DESCRIPTION:22nd & 23rd August at Hendon Golf Club \n  \n  \n 
URL:https://middlesexgolf.co.uk/event/middlesex-womens-senior-championships/
LOCATION:Hendon Golf Club\, Ashley Walk\, Devonshire Rd\, London NW7 1DG\, UK
CATEGORIES:County Competition,Womens,Womens Seniors
END:VEVENT
BEGIN:VEVENT
DTSTART;VALUE=DATE:20250822
DTEND;VALUE=DATE:20250824
DTSTAMP:20260424T014638
CREATED:20241007T105325Z
LAST-MODIFIED:20260218T164613Z
UID:21514-1755820800-1755993599@middlesexgolf.co.uk
SUMMARY:Middlesex Senior Men's Championships
DESCRIPTION:22nd & 23rd August at Hendon GC
URL:https://middlesexgolf.co.uk/event/middlesex-senior-mens-championships/
LOCATION:Hendon Golf Club\, Ashley Walk\, Devonshire Rd\, London NW7 1DG\, UK
CATEGORIES:Mens,Seniors
END:VEVENT
BEGIN:VEVENT
DTSTART;VALUE=DATE:20250817
DTEND;VALUE=DATE:20250821
DTSTAMP:20260424T014638
CREATED:20241026T102226Z
LAST-MODIFIED:20241026T102226Z
UID:21935-1755388800-1755734399@middlesexgolf.co.uk
SUMMARY:Girl's County Week
DESCRIPTION:
URL:https://middlesexgolf.co.uk/event/girls-county-week/
LOCATION:Worthing Golf Club\, Links Road\, West Sussex\, BN14 9QZ\, United Kingdom
CATEGORIES:County Match,Juniors,Womens
END:VEVENT
BEGIN:VEVENT
DTSTART;VALUE=DATE:20250811
DTEND;VALUE=DATE:20250812
DTSTAMP:20260424T014638
CREATED:20250616T175456Z
LAST-MODIFIED:20250616T175638Z
UID:24456-1754870400-1754956799@middlesexgolf.co.uk
SUMMARY:SUDBURY JUNIOR OPEN
DESCRIPTION:SUDBURY JUNIOR OPEN Monday 11th August \nClick HERE for full details
URL:https://middlesexgolf.co.uk/event/24456/
LOCATION:Sudbury Golf Club\, Bridgewater Rd\, Greenford\, Wembley HA0 1AL\, UK
CATEGORIES:Club Competition,Juniors
END:VEVENT
BEGIN:VEVENT
DTSTART;TZID=Europe/London:20250810T080000
DTEND;TZID=Europe/London:20250810T170000
DTSTAMP:20260424T014638
CREATED:20241024T174641Z
LAST-MODIFIED:20241024T174641Z
UID:21889-1754812800-1754845200@middlesexgolf.co.uk
SUMMARY:U16 Boys Match vs Beds vs Essex (away Beds)
DESCRIPTION:VENUE TBC
URL:https://middlesexgolf.co.uk/event/u16-boys-match-vs-beds-vs-essex-away-beds/
CATEGORIES:County Match,Juniors
END:VEVENT
END:VCALENDAR